BEGIN:VCALENDAR
VERSION:2.0
PRODID:-//www.ketchikanarts.org//NONSGML kigkonsult.se iCalcreator 2.30.10/
 /
CALSCALE:GREGORIAN
METHOD:PUBLISH
UID:43074329-2292-480b-b53d-8b82418311b6
X-WR-CALDESC:Austin will perform Wednesday Nights through the summer \nFree
  to patrons of the Timbers Resturant
X-WR-RELCALID:280d081cdb403f8f013f61e805bf7d1b
X-WR-TIMEZONE:America/Anchorage
BEGIN:VTIMEZONE
TZID:America/Anchorage
BEGIN:STANDARD
TZNAME:AKST
DTSTART:20211107T020000
TZOFFSETFROM:-0800
TZOFFSETTO:-0900
RDATE:20221106T020000
RDATE:20231105T020000
END:STANDARD
BEGIN:DAYLIGHT
TZNAME:AKDT
DTSTART:20220313T020000
TZOFFSETFROM:-0900
TZOFFSETTO:-0800
RDATE:20230312T020000
END:DAYLIGHT
END:VTIMEZONE
BEGIN:VEVENT
UID:f3102351-0fc6-4d48-a070-65a7d5238231
DTSTAMP:20260420T061855Z
DESCRIPTION:Austin will perform Wednesday Nights through the summer \nFree 
 to patrons of the Timbers Resturant
DTSTART;TZID=America/Anchorage:20220831T180000
DTEND;TZID=America/Anchorage:20220831T200000
LOCATION:Timbers Restaurant Salmon Falls Resort
SUMMARY:Austin Hays Solo
END:VEVENT
END:VCALENDAR
