BEGIN:VCALENDAR
VERSION:2.0
PRODID:-//www.ketchikanarts.org//NONSGML kigkonsult.se iCalcreator 2.30.10/
 /
CALSCALE:GREGORIAN
METHOD:PUBLISH
UID:6373dc84-10ee-4d78-a4d1-75bba53c7587
X-WR-CALDESC:CALL FOR ARTWORK\nThe Alutiiq Museum seeks to purchase contemp
 orary works of visual art for its permanent collection with the support of
  the Alaska Art Fund. Living Alaskan artists are invited to propose works 
 made within the past five years or to propose the commission of a future w
 ork. Specifically\, we seek pieces that:\n\nReflect the identity and exper
 iences of contemporary Alutiiq people\; or\n\nReflect the historic forces 
 that have shaped the Alutiiq community (e.g.\, blood quantum law\, educati
 on\, epidemics\, land claims\, medical care\, natural resources management
 \, politics\, repatriation\, etc.).\n\nEach artist may submit up to five e
 ntries for consideration. We are looking for works that can be shared in t
 he museum's renovated facilities and redesigned exhibits.
X-WR-RELCALID:666f33b8c8176208740b2fd2ab428660
X-WR-TIMEZONE:America/Anchorage
BEGIN:VTIMEZONE
TZID:America/Anchorage
BEGIN:STANDARD
TZNAME:AKST
DTSTART:20211107T020000
TZOFFSETFROM:-0800
TZOFFSETTO:-0900
RDATE:20221106T020000
RDATE:20231105T020000
END:STANDARD
BEGIN:DAYLIGHT
TZNAME:AKDT
DTSTART:20220313T020000
TZOFFSETFROM:-0900
TZOFFSETTO:-0800
RDATE:20230312T020000
END:DAYLIGHT
END:VTIMEZONE
BEGIN:VEVENT
UID:24d51913-f387-4872-adcc-7e25fbcaba71
DTSTAMP:20260420T061752Z
DESCRIPTION:CALL FOR ARTWORK\nThe Alutiiq Museum seeks to purchase contempo
 rary works of visual art for its permanent collection with the support of 
 the Alaska Art Fund. Living Alaskan artists are invited to propose works m
 ade within the past five years or to propose the commission of a future wo
 rk. Specifically\, we seek pieces that:\n\nReflect the identity and experi
 ences of contemporary Alutiiq people\; or\n\nReflect the historic forces t
 hat have shaped the Alutiiq community (e.g.\, blood quantum law\, educatio
 n\, epidemics\, land claims\, medical care\, natural resources management\
 , politics\, repatriation\, etc.).\n\nEach artist may submit up to five en
 tries for consideration. We are looking for works that can be shared in th
 e museum's renovated facilities and redesigned exhibits.
DTSTART;TZID=America/Anchorage:20220828T090000
DTEND;TZID=America/Anchorage:20220828T100000
LOCATION:
SUMMARY:Alutiiq Museum Call for Artwork Proposal Submission Deadline
END:VEVENT
END:VCALENDAR
