BEGIN:VCALENDAR
VERSION:2.0
PRODID:-//www.ketchikanarts.org//NONSGML kigkonsult.se iCalcreator 2.30.10/
 /
CALSCALE:GREGORIAN
METHOD:PUBLISH
UID:f406d43e-5758-457d-b41e-822c050c0600
X-WR-CALDESC:Open House this coming Saturday\, August 27th from 9:00am-1:00
 pm at KTB. You’ll have the opportunity to meet staff\, see the space\, and
  register for classes that begin on Monday\, August 29th!
X-WR-RELCALID:de99c9db9c702c7916f6120a32d0583b
X-WR-TIMEZONE:America/Anchorage
BEGIN:VTIMEZONE
TZID:America/Anchorage
BEGIN:STANDARD
TZNAME:AKST
DTSTART:20211107T020000
TZOFFSETFROM:-0800
TZOFFSETTO:-0900
RDATE:20221106T020000
RDATE:20231105T020000
END:STANDARD
BEGIN:DAYLIGHT
TZNAME:AKDT
DTSTART:20220313T020000
TZOFFSETFROM:-0900
TZOFFSETTO:-0800
RDATE:20230312T020000
END:DAYLIGHT
END:VTIMEZONE
BEGIN:VEVENT
UID:1af39a3f-fd13-4e1b-925c-724452d24dd8
DTSTAMP:20260420T061855Z
DESCRIPTION:Open House this coming Saturday\, August 27th from 9:00am-1:00p
 m at KTB. You’ll have the opportunity to meet staff\, see the space\, and 
 register for classes that begin on Monday\, August 29th!
DTSTART;TZID=America/Anchorage:20220827T090000
DTEND;TZID=America/Anchorage:20220827T130000
LOCATION:400 Mission Street Suite 205
SUMMARY:Ketchikan Theatre Ballet Open House
END:VEVENT
END:VCALENDAR
