BEGIN:VCALENDAR
VERSION:2.0
PRODID:-//www.ketchikanarts.org//NONSGML kigkonsult.se iCalcreator 2.30.10/
 /
CALSCALE:GREGORIAN
METHOD:PUBLISH
UID:8561548d-d868-40af-88c7-a6f54a46fdf2
X-WR-CALDESC:Guard Island Heritage\, Inc.\, a local non-profit is LIGHTHOUS
 E fundraising with a Frank Sinatra Tribute\, Las Vegas Themed Dance Party 
 at the Ted Ferry Civic Center Saturday\, August 27. Doors open at 6:45 PM.
  Music by Stephanie Patton Sextet & the Frank Sinatra Tribute BIG BAND. $2
 5 theater seats\,$120 table of 4\, $240 table of 8. Bar by Creek St. Cabar
 et. Water and light snacks provided. Tickets by QR Code wherever you see o
 ur poster. UN-taken seats will be sold at the door beginning at 7:45 PM\, 
 so please arrive in a timely manner. Also please invite any friends\, neig
 hbors or business associates to join this event.
X-WR-RELCALID:6ede9d5c7f82885cba818c8a1cae84c2
X-WR-TIMEZONE:America/Anchorage
BEGIN:VTIMEZONE
TZID:America/Anchorage
BEGIN:STANDARD
TZNAME:AKST
DTSTART:20211107T020000
TZOFFSETFROM:-0800
TZOFFSETTO:-0900
RDATE:20221106T020000
RDATE:20231105T020000
END:STANDARD
BEGIN:DAYLIGHT
TZNAME:AKDT
DTSTART:20220313T020000
TZOFFSETFROM:-0900
TZOFFSETTO:-0800
RDATE:20230312T020000
END:DAYLIGHT
END:VTIMEZONE
BEGIN:VEVENT
UID:de6ccc21-eeb9-4232-b5c7-970badbfd46d
DTSTAMP:20260420T062046Z
DESCRIPTION:Guard Island Heritage\, Inc.\, a local non-profit is LIGHTHOUSE
  fundraising with a Frank Sinatra Tribute\, Las Vegas Themed Dance Party a
 t the Ted Ferry Civic Center Saturday\, August 27. Doors open at 6:45 PM. 
 Music by Stephanie Patton Sextet & the Frank Sinatra Tribute BIG BAND. $25
  theater seats\,$120 table of 4\, $240 table of 8. Bar by Creek St. Cabare
 t. Water and light snacks provided. Tickets by QR Code wherever you see ou
 r poster. UN-taken seats will be sold at the door beginning at 7:45 PM\, s
 o please arrive in a timely manner. Also please invite any friends\, neigh
 bors or business associates to join this event.
DTSTART;TZID=America/Anchorage:20220827T183000
DTEND;TZID=America/Anchorage:20220827T213000
LOCATION:Ted Ferry Civic Center
SUMMARY:Guard Island Heritage Inc Frank Sinatra Tribute Dance Party
END:VEVENT
END:VCALENDAR
