BEGIN:VCALENDAR
VERSION:2.0
PRODID:-//www.ketchikanarts.org//NONSGML kigkonsult.se iCalcreator 2.30.10/
 /
CALSCALE:GREGORIAN
METHOD:PUBLISH
UID:6309e70f-0568-4ada-bd4d-5c43a4c38c0f
X-WR-CALDESC:Rotating live local music! You won't be disappointed\, \nFree 
 and open to restaurant and Bar patrons
X-WR-RELCALID:8591aceea362867699cacce28ce80433
X-WR-TIMEZONE:America/Anchorage
BEGIN:VTIMEZONE
TZID:America/Anchorage
BEGIN:STANDARD
TZNAME:AKST
DTSTART:20211107T020000
TZOFFSETFROM:-0800
TZOFFSETTO:-0900
RDATE:20221106T020000
RDATE:20231105T020000
END:STANDARD
BEGIN:DAYLIGHT
TZNAME:AKDT
DTSTART:20220313T020000
TZOFFSETFROM:-0900
TZOFFSETTO:-0800
RDATE:20230312T020000
END:DAYLIGHT
END:VTIMEZONE
BEGIN:VEVENT
UID:c77d916d-4f12-4123-ac79-02647e5c57fa
DTSTAMP:20260420T061731Z
DESCRIPTION:Rotating live local music! You won't be disappointed\, \nFree a
 nd open to restaurant and Bar patrons
DTSTART;TZID=America/Anchorage:20220827T190000
DTEND;TZID=America/Anchorage:20220827T210000
LOCATION:New York Cafe
SUMMARY:Live Music
END:VEVENT
END:VCALENDAR
