BEGIN:VCALENDAR
VERSION:2.0
PRODID:-//www.ketchikanarts.org//NONSGML kigkonsult.se iCalcreator 2.30.10/
 /
CALSCALE:GREGORIAN
METHOD:PUBLISH
UID:1f8a8838-16ce-4040-8f2f-4ace9d95a487
X-WR-CALDESC:
X-WR-RELCALID:9f53c9201eef18d297c2032cabfd205c
X-WR-TIMEZONE:America/Anchorage
BEGIN:VTIMEZONE
TZID:America/Anchorage
BEGIN:STANDARD
TZNAME:AKST
DTSTART:20211107T020000
TZOFFSETFROM:-0800
TZOFFSETTO:-0900
RDATE:20221106T020000
RDATE:20231105T020000
END:STANDARD
BEGIN:DAYLIGHT
TZNAME:AKDT
DTSTART:20220313T020000
TZOFFSETFROM:-0900
TZOFFSETTO:-0800
RDATE:20230312T020000
END:DAYLIGHT
END:VTIMEZONE
BEGIN:VEVENT
UID:a6322699-1215-4aa4-838b-28500aa3544f
DTSTAMP:20260420T061552Z
DESCRIPTION:
DTSTART;TZID=America/Anchorage:20220825T000000
DTEND;TZID=America/Anchorage:20220825T235900
LOCATION:
SUMMARY:First Day of School
END:VEVENT
END:VCALENDAR
