BEGIN:VCALENDAR
VERSION:2.0
PRODID:-//www.ketchikanarts.org//NONSGML kigkonsult.se iCalcreator 2.30.10/
 /
CALSCALE:GREGORIAN
METHOD:PUBLISH
UID:f7cc2624-3e17-49b3-90e7-8dc841cfe2b3
X-WR-CALDESC:Come join KIC at City Park for a special Tsimshian Summer Gath
 ering! There will be language learning\, drumming\, storytelling\, and son
 gs. Free to all. People of all ages are welcome\, children must be accompa
 nied by a responsible adult.  Call Ahl’lid͟a͟a͟w͟ at (907) 228-9318 or ema
 il Ahl’lid͟a͟a͟w͟@kictribe.org to sign-up
X-WR-RELCALID:e95e8d0fd4f7844b706fff8826dbab3a
X-WR-TIMEZONE:America/Anchorage
BEGIN:VTIMEZONE
TZID:America/Anchorage
BEGIN:STANDARD
TZNAME:AKST
DTSTART:20211107T020000
TZOFFSETFROM:-0800
TZOFFSETTO:-0900
RDATE:20221106T020000
RDATE:20231105T020000
END:STANDARD
BEGIN:DAYLIGHT
TZNAME:AKDT
DTSTART:20220313T020000
TZOFFSETFROM:-0900
TZOFFSETTO:-0800
RDATE:20230312T020000
END:DAYLIGHT
END:VTIMEZONE
BEGIN:VEVENT
UID:7b2da15d-569c-42a5-ae42-911581538ccc
DTSTAMP:20260420T061753Z
DESCRIPTION:Come join KIC at City Park for a special Tsimshian Summer Gathe
 ring! There will be language learning\, drumming\, storytelling\, and song
 s. Free to all. People of all ages are welcome\, children must be accompan
 ied by a responsible adult.  Call Ahl’lid͟a͟a͟w͟ at (907) 228-9318 or emai
 l Ahl’lid͟a͟a͟w͟@kictribe.org to sign-up
DTSTART;TZID=America/Anchorage:20220825T180000
DTEND;TZID=America/Anchorage:20220825T190000
LOCATION:Ketchikan City Park
SUMMARY:Tsimshian Summer Gathering
END:VEVENT
END:VCALENDAR
