BEGIN:VCALENDAR
VERSION:2.0
PRODID:-//www.ketchikanarts.org//NONSGML kigkonsult.se iCalcreator 2.30.10/
 /
CALSCALE:GREGORIAN
METHOD:PUBLISH
UID:758e78c1-8049-476a-b4ca-8388d67b63cc
X-WR-CALDESC:Live music\, guitar and vocals
X-WR-RELCALID:5a49b681d93e3459aacf8ebe61d1ac60
X-WR-TIMEZONE:America/Anchorage
BEGIN:VTIMEZONE
TZID:America/Anchorage
BEGIN:STANDARD
TZNAME:AKST
DTSTART:20211107T020000
TZOFFSETFROM:-0800
TZOFFSETTO:-0900
RDATE:20221106T020000
RDATE:20231105T020000
END:STANDARD
BEGIN:DAYLIGHT
TZNAME:AKDT
DTSTART:20220313T020000
TZOFFSETFROM:-0900
TZOFFSETTO:-0800
RDATE:20230312T020000
END:DAYLIGHT
END:VTIMEZONE
BEGIN:VEVENT
UID:78ead273-e5b5-4121-bf7a-e0acfa40f049
DTSTAMP:20260420T061924Z
DESCRIPTION:Live music\, guitar and vocals
DTSTART;TZID=America/Anchorage:20220824T190000
DTEND;TZID=America/Anchorage:20220824T220000
LOCATION:Fat Stans Pizza
SUMMARY:Joe Williams IV and Cullen McCormick
END:VEVENT
END:VCALENDAR
