BEGIN:VCALENDAR
VERSION:2.0
PRODID:-//www.ketchikanarts.org//NONSGML kigkonsult.se iCalcreator 2.30.10/
 /
CALSCALE:GREGORIAN
METHOD:PUBLISH
UID:3524b01c-c39f-4df4-89f3-2a1cee69e5b7
X-WR-CALDESC:Austin will perform Wednesday Nights through the summer \nFree
  to patrons of the Timbers Resturant
X-WR-RELCALID:e81d57e003793f4e902a435ee8c78e09
X-WR-TIMEZONE:America/Anchorage
BEGIN:VTIMEZONE
TZID:America/Anchorage
BEGIN:STANDARD
TZNAME:AKST
DTSTART:20211107T020000
TZOFFSETFROM:-0800
TZOFFSETTO:-0900
RDATE:20221106T020000
RDATE:20231105T020000
END:STANDARD
BEGIN:DAYLIGHT
TZNAME:AKDT
DTSTART:20220313T020000
TZOFFSETFROM:-0900
TZOFFSETTO:-0800
RDATE:20230312T020000
END:DAYLIGHT
END:VTIMEZONE
BEGIN:VEVENT
UID:d4b2bf5a-dc51-4083-bf7f-4a25e0aa3da3
DTSTAMP:20260420T061854Z
DESCRIPTION:Austin will perform Wednesday Nights through the summer \nFree 
 to patrons of the Timbers Resturant
DTSTART;TZID=America/Anchorage:20220824T180000
DTEND;TZID=America/Anchorage:20220824T200000
LOCATION:Timbers Restaurant Salmon Falls Resort
SUMMARY:Austin Hays Solo
END:VEVENT
END:VCALENDAR
