BEGIN:VCALENDAR
VERSION:2.0
PRODID:-//www.ketchikanarts.org//NONSGML kigkonsult.se iCalcreator 2.30.10/
 /
CALSCALE:GREGORIAN
METHOD:PUBLISH
UID:40f058e5-cb0a-43b6-8c71-266b4bc5d20b
X-WR-CALDESC:Join Joe Williams in celebrating his 31st Birthday with an awe
 some Dance Party featuring live music from Woody's Finest Hour and special
  guest Kaylauna Churchill. There will also be cupcakes from 55 North Baker
 y & Coffee. $10 cover at the door\, 100% of donations go to Ketchikan Prid
 e Alliance. Attire is Grown & Sexy!
X-WR-RELCALID:b108c78418853ed873c7f2f4f1c62aae
X-WR-TIMEZONE:America/Anchorage
BEGIN:VTIMEZONE
TZID:America/Anchorage
BEGIN:STANDARD
TZNAME:AKST
DTSTART:20211107T020000
TZOFFSETFROM:-0800
TZOFFSETTO:-0900
RDATE:20221106T020000
RDATE:20231105T020000
END:STANDARD
BEGIN:DAYLIGHT
TZNAME:AKDT
DTSTART:20220313T020000
TZOFFSETFROM:-0900
TZOFFSETTO:-0800
RDATE:20230312T020000
END:DAYLIGHT
END:VTIMEZONE
BEGIN:VEVENT
UID:0c10884b-9494-48d1-9253-754307c500a3
DTSTAMP:20260420T061725Z
DESCRIPTION:Join Joe Williams in celebrating his 31st Birthday with an awes
 ome Dance Party featuring live music from Woody's Finest Hour and special 
 guest Kaylauna Churchill. There will also be cupcakes from 55 North Bakery
  & Coffee. $10 cover at the door\, 100% of donations go to Ketchikan Pride
  Alliance. Attire is Grown & Sexy!
DTSTART;TZID=America/Anchorage:20220820T200000
DTEND;TZID=America/Anchorage:20220820T230000
LOCATION:Creekstreet Cabaret
SUMMARY:Joe Williams Birthday Dance Party
END:VEVENT
END:VCALENDAR
