BEGIN:VCALENDAR
VERSION:2.0
PRODID:-//www.ketchikanarts.org//NONSGML kigkonsult.se iCalcreator 2.30.10/
 /
CALSCALE:GREGORIAN
METHOD:PUBLISH
UID:7bc91c40-1a81-4f89-9443-99c73816ea7b
X-WR-CALDESC:Rotating live local music! You won't be disappointed\, \nFree 
 and open to restaurant and Bar patrons
X-WR-RELCALID:16f3ed3e1508f16f30112fb19c250741
X-WR-TIMEZONE:America/Anchorage
BEGIN:VTIMEZONE
TZID:America/Anchorage
BEGIN:STANDARD
TZNAME:AKST
DTSTART:20211107T020000
TZOFFSETFROM:-0800
TZOFFSETTO:-0900
RDATE:20221106T020000
RDATE:20231105T020000
END:STANDARD
BEGIN:DAYLIGHT
TZNAME:AKDT
DTSTART:20220313T020000
TZOFFSETFROM:-0900
TZOFFSETTO:-0800
RDATE:20230312T020000
END:DAYLIGHT
END:VTIMEZONE
BEGIN:VEVENT
UID:2628d1d6-97d5-467c-b8fd-f1c7fd8c30e7
DTSTAMP:20260420T061723Z
DESCRIPTION:Rotating live local music! You won't be disappointed\, \nFree a
 nd open to restaurant and Bar patrons
DTSTART;TZID=America/Anchorage:20220820T190000
DTEND;TZID=America/Anchorage:20220820T210000
LOCATION:New York Cafe
SUMMARY:Live Music
END:VEVENT
END:VCALENDAR
