BEGIN:VCALENDAR
VERSION:2.0
PRODID:-//www.ketchikanarts.org//NONSGML kigkonsult.se iCalcreator 2.30.10/
 /
CALSCALE:GREGORIAN
METHOD:PUBLISH
UID:bd6df74d-b94b-4914-8d28-d51c73564762
X-WR-CALDESC:Portable Southeast is a curated traveling art exhibit that wil
 l tour the region during the 2022-23 JAHC Gallery Season. This traveling a
 rt exhibit will feature artwork inspired by life on the coast and will tra
 vel to six communities in Southeast Alaska (locations are TBA) - with the 
 goal to create new partnerships between communities and more exhibit oppor
 tunities for artists currently residing in Southeast Alaska. No fee to app
 ly.  \n\nArtists may submit up to three pieces in any medium. Artwork must
  fit in a USPS Priority Mail Box (no larger than 14 x 12 x 3 1/4'). \n\nTh
 e deadline to submit work is Friday\, August 19\, 2022. \n\nMore informati
 on and the application form is posted on our website: jahc.org/portable-so
 utheast/
X-WR-RELCALID:9b31b1d46dcb784e474aaa5935ffb84a
X-WR-TIMEZONE:America/Anchorage
BEGIN:VTIMEZONE
TZID:America/Anchorage
BEGIN:STANDARD
TZNAME:AKST
DTSTART:20211107T020000
TZOFFSETFROM:-0800
TZOFFSETTO:-0900
RDATE:20221106T020000
RDATE:20231105T020000
END:STANDARD
BEGIN:DAYLIGHT
TZNAME:AKDT
DTSTART:20220313T020000
TZOFFSETFROM:-0900
TZOFFSETTO:-0800
RDATE:20230312T020000
END:DAYLIGHT
END:VTIMEZONE
BEGIN:VEVENT
UID:d89ed98e-ece9-4852-92f6-4129498e2bb3
DTSTAMP:20260420T061845Z
DESCRIPTION:Portable Southeast is a curated traveling art exhibit that will
  tour the region during the 2022-23 JAHC Gallery Season. This traveling ar
 t exhibit will feature artwork inspired by life on the coast and will trav
 el to six communities in Southeast Alaska (locations are TBA) - with the g
 oal to create new partnerships between communities and more exhibit opport
 unities for artists currently residing in Southeast Alaska. No fee to appl
 y.  \n\nArtists may submit up to three pieces in any medium. Artwork must 
 fit in a USPS Priority Mail Box (no larger than 14 x 12 x 3 1/4'). \n\nThe
  deadline to submit work is Friday\, August 19\, 2022. \n\nMore informatio
 n and the application form is posted on our website: jahc.org/portable-sou
 theast/
DTSTART;TZID=America/Anchorage:20220819T160000
DTEND;TZID=America/Anchorage:20220819T170000
LOCATION:Juneau Arts and Humanities Council
SUMMARY:Portable Southeast Art Exhibit submission deadline
END:VEVENT
END:VCALENDAR
