BEGIN:VCALENDAR
VERSION:2.0
PRODID:-//www.ketchikanarts.org//NONSGML kigkonsult.se iCalcreator 2.30.10/
 /
CALSCALE:GREGORIAN
METHOD:PUBLISH
UID:b4e4d7cb-d2dc-4b06-8bbe-51d3a4492636
X-WR-CALDESC:
X-WR-RELCALID:0b63d3c11565964d9d0f8375feb3b6b0
X-WR-TIMEZONE:America/Anchorage
BEGIN:VTIMEZONE
TZID:America/Anchorage
BEGIN:STANDARD
TZNAME:AKST
DTSTART:20211107T020000
TZOFFSETFROM:-0800
TZOFFSETTO:-0900
RDATE:20221106T020000
RDATE:20231105T020000
END:STANDARD
BEGIN:DAYLIGHT
TZNAME:AKDT
DTSTART:20220313T020000
TZOFFSETFROM:-0900
TZOFFSETTO:-0800
RDATE:20230312T020000
END:DAYLIGHT
END:VTIMEZONE
BEGIN:VEVENT
UID:4ca812d8-7763-4a17-85a9-d7351b3c83b9
DTSTAMP:20260420T061551Z
DESCRIPTION:
DTSTART;TZID=America/Anchorage:20220816T000000
DTEND;TZID=America/Anchorage:20220816T235900
LOCATION:Ketchikan High
SUMMARY:Idea Festival
END:VEVENT
END:VCALENDAR
