BEGIN:VCALENDAR
VERSION:2.0
PRODID:-//www.ketchikanarts.org//NONSGML kigkonsult.se iCalcreator 2.30.10/
 /
CALSCALE:GREGORIAN
METHOD:PUBLISH
UID:d841b654-24b9-40a4-9398-8e6ea8d55d06
X-WR-CALDESC:October is Star Wars Month at The Cordova Historical Museum. T
 hey are calling for artist\, fans and collectors of Star Wars art or objec
 ts! Do you have something you would like to have displayed at the Star War
 s Art and Memorabilia exhibit?
X-WR-RELCALID:b554a42ee8b024d4eee65f6c4efa8150
X-WR-TIMEZONE:America/Anchorage
BEGIN:VTIMEZONE
TZID:America/Anchorage
BEGIN:STANDARD
TZNAME:AKST
DTSTART:20211107T020000
TZOFFSETFROM:-0800
TZOFFSETTO:-0900
RDATE:20221106T020000
RDATE:20231105T020000
END:STANDARD
BEGIN:DAYLIGHT
TZNAME:AKDT
DTSTART:20220313T020000
TZOFFSETFROM:-0900
TZOFFSETTO:-0800
RDATE:20230312T020000
END:DAYLIGHT
END:VTIMEZONE
BEGIN:VEVENT
UID:d80640c4-ee1e-4deb-990a-5f20b79c3eea
DTSTAMP:20260420T061727Z
DESCRIPTION:October is Star Wars Month at The Cordova Historical Museum. Th
 ey are calling for artist\, fans and collectors of Star Wars art or object
 s! Do you have something you would like to have displayed at the Star Wars
  Art and Memorabilia exhibit?
DTSTART;TZID=America/Anchorage:20220815T100000
DTEND;TZID=America/Anchorage:20220815T110000
LOCATION:Cordova Historical Museum
SUMMARY:Star Wars Call for Artist
END:VEVENT
END:VCALENDAR
