BEGIN:VCALENDAR
VERSION:2.0
PRODID:-//www.ketchikanarts.org//NONSGML kigkonsult.se iCalcreator 2.30.10/
 /
CALSCALE:GREGORIAN
METHOD:PUBLISH
UID:fed1df2e-5043-40a1-9d65-4f52fff3a3c3
X-WR-CALDESC:Ketchikan Theatre Ballet registration will be open online or y
 ou can call the office 907-225-9311
X-WR-RELCALID:654830361d505ae8ff1d857b8db6b178
X-WR-TIMEZONE:America/Anchorage
BEGIN:VTIMEZONE
TZID:America/Anchorage
BEGIN:STANDARD
TZNAME:AKST
DTSTART:20211107T020000
TZOFFSETFROM:-0800
TZOFFSETTO:-0900
RDATE:20221106T020000
RDATE:20231105T020000
END:STANDARD
BEGIN:DAYLIGHT
TZNAME:AKDT
DTSTART:20220313T020000
TZOFFSETFROM:-0900
TZOFFSETTO:-0800
RDATE:20230312T020000
END:DAYLIGHT
END:VTIMEZONE
BEGIN:VEVENT
UID:8d3e16b5-a61a-4487-9d62-99b615669c64
DTSTAMP:20260420T061751Z
DESCRIPTION:Ketchikan Theatre Ballet registration will be open online or yo
 u can call the office 907-225-9311
DTSTART;TZID=America/Anchorage:20220815T090000
DTEND;TZID=America/Anchorage:20220815T100000
LOCATION:Ketchikan Theatre Ballet
SUMMARY:Ketchikan Theatre Ballet Open Registration
END:VEVENT
END:VCALENDAR
