BEGIN:VCALENDAR
VERSION:2.0
PRODID:-//www.ketchikanarts.org//NONSGML kigkonsult.se iCalcreator 2.30.10/
 /
CALSCALE:GREGORIAN
METHOD:PUBLISH
UID:81dda350-10fe-4eaf-9d4c-203ba10ff8dd
X-WR-CALDESC:Live music\, guitar and vocals
X-WR-RELCALID:90a6324437d659e2ab1f86d05a8dc523
X-WR-TIMEZONE:America/Anchorage
BEGIN:VTIMEZONE
TZID:America/Anchorage
BEGIN:STANDARD
TZNAME:AKST
DTSTART:20211107T020000
TZOFFSETFROM:-0800
TZOFFSETTO:-0900
RDATE:20221106T020000
RDATE:20231105T020000
END:STANDARD
BEGIN:DAYLIGHT
TZNAME:AKDT
DTSTART:20220313T020000
TZOFFSETFROM:-0900
TZOFFSETTO:-0800
RDATE:20230312T020000
END:DAYLIGHT
END:VTIMEZONE
BEGIN:VEVENT
UID:fcc670a6-abdc-44d4-88ea-885ee535186d
DTSTAMP:20260420T061925Z
DESCRIPTION:Live music\, guitar and vocals
DTSTART;TZID=America/Anchorage:20220810T190000
DTEND;TZID=America/Anchorage:20220810T220000
LOCATION:Fat Stans Pizza
SUMMARY:Joe Williams IV and Cullen McCormick
END:VEVENT
END:VCALENDAR
