BEGIN:VCALENDAR
VERSION:2.0
PRODID:-//www.ketchikanarts.org//NONSGML kigkonsult.se iCalcreator 2.30.10/
 /
CALSCALE:GREGORIAN
METHOD:PUBLISH
UID:70ea7e5f-39ff-4218-8aec-9e8a3969ba5e
X-WR-CALDESC:The String Beings
X-WR-RELCALID:8ee6bb4d6bfe85b1ca1ae5e2d8ed1c05
X-WR-TIMEZONE:America/Anchorage
BEGIN:VTIMEZONE
TZID:America/Anchorage
BEGIN:STANDARD
TZNAME:AKST
DTSTART:20211107T020000
TZOFFSETFROM:-0800
TZOFFSETTO:-0900
RDATE:20221106T020000
RDATE:20231105T020000
END:STANDARD
BEGIN:DAYLIGHT
TZNAME:AKDT
DTSTART:20220313T020000
TZOFFSETFROM:-0900
TZOFFSETTO:-0800
RDATE:20230312T020000
END:DAYLIGHT
END:VTIMEZONE
BEGIN:VEVENT
UID:34a924ce-f760-4eaa-a9b0-85fdbb547b2d
DTSTAMP:20260420T061538Z
DESCRIPTION:The String Beings
DTSTART;TZID=America/Anchorage:20220809T120000
DTEND;TZID=America/Anchorage:20220809T130000
LOCATION:
SUMMARY:Music on the Dock
END:VEVENT
END:VCALENDAR
