BEGIN:VCALENDAR
VERSION:2.0
PRODID:-//www.ketchikanarts.org//NONSGML kigkonsult.se iCalcreator 2.30.10/
 /
CALSCALE:GREGORIAN
METHOD:PUBLISH
UID:5fc80772-6961-44d9-97e6-68ea59abe56a
X-WR-CALDESC:Join Kevin Clevenger for the 'Raven Steals the Sun' unveiling
 \nThere will be singing and drumming after.\nAlaska Rainforest Sanctuary 4
 :30pm.
X-WR-RELCALID:d5e0dcc56cf25a2d5e36056c3f2f5077
X-WR-TIMEZONE:America/Anchorage
BEGIN:VTIMEZONE
TZID:America/Anchorage
BEGIN:STANDARD
TZNAME:AKST
DTSTART:20211107T020000
TZOFFSETFROM:-0800
TZOFFSETTO:-0900
RDATE:20221106T020000
RDATE:20231105T020000
END:STANDARD
BEGIN:DAYLIGHT
TZNAME:AKDT
DTSTART:20220313T020000
TZOFFSETFROM:-0900
TZOFFSETTO:-0800
RDATE:20230312T020000
END:DAYLIGHT
END:VTIMEZONE
BEGIN:VEVENT
UID:c7788d04-f315-4499-97be-bd6da905b5b8
DTSTAMP:20260420T061712Z
DESCRIPTION:Join Kevin Clevenger for the 'Raven Steals the Sun' unveiling\n
 There will be singing and drumming after.\nAlaska Rainforest Sanctuary 4:3
 0pm.
DTSTART;TZID=America/Anchorage:20220809T163000
DTEND;TZID=America/Anchorage:20220809T173000
LOCATION:Alaska Rainforest Sanctuary
SUMMARY:Kevin Clevenger Totem Raising
END:VEVENT
END:VCALENDAR
