BEGIN:VCALENDAR
VERSION:2.0
PRODID:-//www.ketchikanarts.org//NONSGML kigkonsult.se iCalcreator 2.30.10/
 /
CALSCALE:GREGORIAN
METHOD:PUBLISH
UID:6f196fc4-6a58-48cc-9d58-29e38d48bdf0
X-WR-CALDESC:Lighthouse Excursion is offering a special deal in honor of th
 e upcoming Ketchikan Area Arts and Humanities Council Blueberry Festival! 
 Join the tour on Sunday\, August 7th at 1:15 PM and get 20% off the tour w
 hen you enter 2022BLUEBERRY at the checkout. \n100% of profits will go to 
 support the Ketchikan Area Arts & Humanities Council.
X-WR-RELCALID:c95f1cbe26fed9730ce01fbcb9b593ac
X-WR-TIMEZONE:America/Anchorage
BEGIN:VTIMEZONE
TZID:America/Anchorage
BEGIN:STANDARD
TZNAME:AKST
DTSTART:20211107T020000
TZOFFSETFROM:-0800
TZOFFSETTO:-0900
RDATE:20221106T020000
RDATE:20231105T020000
END:STANDARD
BEGIN:DAYLIGHT
TZNAME:AKDT
DTSTART:20220313T020000
TZOFFSETFROM:-0900
TZOFFSETTO:-0800
RDATE:20230312T020000
END:DAYLIGHT
END:VTIMEZONE
BEGIN:VEVENT
UID:c9c35c69-5366-4564-8197-59b6cee601e0
DTSTAMP:20260420T061715Z
DESCRIPTION:Lighthouse Excursion is offering a special deal in honor of the
  upcoming Ketchikan Area Arts and Humanities Council Blueberry Festival! J
 oin the tour on Sunday\, August 7th at 1:15 PM and get 20% off the tour wh
 en you enter 2022BLUEBERRY at the checkout. \n100% of profits will go to s
 upport the Ketchikan Area Arts & Humanities Council.
DTSTART;TZID=America/Anchorage:20220807T130000
DTEND;TZID=America/Anchorage:20220807T140000
LOCATION:
SUMMARY:Lighthouse Excursion Special Deal Day!
END:VEVENT
END:VCALENDAR
