BEGIN:VCALENDAR
VERSION:2.0
PRODID:-//www.ketchikanarts.org//NONSGML kigkonsult.se iCalcreator 2.30.10/
 /
CALSCALE:GREGORIAN
METHOD:PUBLISH
UID:57b9b90e-626c-4702-9fbf-da5bc9bc9eb4
X-WR-CALDESC:Woody's Finest Hour is returning to the Totem Bar for a dance 
 party featuring a tidal wave of classic pop\, NO COVER CHARGE. Music begin
 s at 9pm and goes till 1 am.
X-WR-RELCALID:02950cf84674f602c897bddde2f61123
X-WR-TIMEZONE:America/Anchorage
BEGIN:VTIMEZONE
TZID:America/Anchorage
BEGIN:STANDARD
TZNAME:AKST
DTSTART:20211107T020000
TZOFFSETFROM:-0800
TZOFFSETTO:-0900
RDATE:20221106T020000
RDATE:20231105T020000
END:STANDARD
BEGIN:DAYLIGHT
TZNAME:AKDT
DTSTART:20220313T020000
TZOFFSETFROM:-0900
TZOFFSETTO:-0800
RDATE:20230312T020000
END:DAYLIGHT
END:VTIMEZONE
BEGIN:VEVENT
UID:44e72d62-8db2-4269-bfea-41ab7edd88f8
DTSTAMP:20260420T061620Z
DESCRIPTION:Woody's Finest Hour is returning to the Totem Bar for a dance p
 arty featuring a tidal wave of classic pop\, NO COVER CHARGE. Music begins
  at 9pm and goes till 1 am.
DTSTART;TZID=America/Anchorage:20220806T210000
DTEND;TZID=America/Anchorage:20220806T220000
LOCATION:Totem Bar
SUMMARY:Woody's Finest Hour
END:VEVENT
END:VCALENDAR
