BEGIN:VCALENDAR
VERSION:2.0
PRODID:-//www.ketchikanarts.org//NONSGML kigkonsult.se iCalcreator 2.30.10/
 /
CALSCALE:GREGORIAN
METHOD:PUBLISH
UID:1f89892a-7d41-476f-8f30-aa5b2f3b7b4e
X-WR-CALDESC:Join us for the slug weigh-in and big slug contest for those 1
 2 and under
X-WR-RELCALID:d315090c62ad037e1b9bcaf711266c8f
X-WR-TIMEZONE:America/Anchorage
BEGIN:VTIMEZONE
TZID:America/Anchorage
BEGIN:STANDARD
TZNAME:AKST
DTSTART:20211107T020000
TZOFFSETFROM:-0800
TZOFFSETTO:-0900
RDATE:20221106T020000
RDATE:20231105T020000
END:STANDARD
BEGIN:DAYLIGHT
TZNAME:AKDT
DTSTART:20220313T020000
TZOFFSETFROM:-0900
TZOFFSETTO:-0800
RDATE:20230312T020000
END:DAYLIGHT
END:VTIMEZONE
BEGIN:VEVENT
UID:13e7a40c-1cbc-4898-b67d-1b1ad2cd6869
DTSTAMP:20260420T061711Z
DESCRIPTION:Join us for the slug weigh-in and big slug contest for those 12
  and under
DTSTART;TZID=America/Anchorage:20220806T093000
DTEND;TZID=America/Anchorage:20220806T100000
LOCATION:
SUMMARY:The Big Slug Contest (12 & Under)
END:VEVENT
END:VCALENDAR
