BEGIN:VCALENDAR
VERSION:2.0
PRODID:-//www.ketchikanarts.org//NONSGML kigkonsult.se iCalcreator 2.30.10/
 /
CALSCALE:GREGORIAN
METHOD:PUBLISH
UID:ad960efa-f1e8-4f6c-a2a3-a11b19a49e21
X-WR-CALDESC:Ready.Set. GO! Think you found the fastest slug in Ketchikan? 
 Enter them in the slug race to see how they hold up against the competitio
 n.
X-WR-RELCALID:500aff4e8c30fd782e6ffaaaa4d84e43
X-WR-TIMEZONE:America/Anchorage
BEGIN:VTIMEZONE
TZID:America/Anchorage
BEGIN:STANDARD
TZNAME:AKST
DTSTART:20211107T020000
TZOFFSETFROM:-0800
TZOFFSETTO:-0900
RDATE:20221106T020000
RDATE:20231105T020000
END:STANDARD
BEGIN:DAYLIGHT
TZNAME:AKDT
DTSTART:20220313T020000
TZOFFSETFROM:-0900
TZOFFSETTO:-0800
RDATE:20230312T020000
END:DAYLIGHT
END:VTIMEZONE
BEGIN:VEVENT
UID:cecc5c88-c324-4ede-aa81-a2be1617acc7
DTSTAMP:20260420T061422Z
DESCRIPTION:Ready.Set. GO! Think you found the fastest slug in Ketchikan? E
 nter them in the slug race to see how they hold up against the competition
 .
DTSTART;TZID=America/Anchorage:20220806T103000
DTEND;TZID=America/Anchorage:20220806T113000
LOCATION:
SUMMARY:Slug Race (12 & under)
END:VEVENT
END:VCALENDAR
