BEGIN:VCALENDAR
VERSION:2.0
PRODID:-//www.ketchikanarts.org//NONSGML kigkonsult.se iCalcreator 2.30.10/
 /
CALSCALE:GREGORIAN
METHOD:PUBLISH
UID:c9d509a9-8148-4c5e-80c8-3933739e4e30
X-WR-CALDESC:The Ketchikan Running Club is hosting the Blueberry Fun Run. R
 egistration opens at 8 am\, 1- mile children's run and 5K walkers start at
  9 am\, and the 5K and 10K runners begin at 9:30 am.
X-WR-RELCALID:206460f49e4ac3424144eb4b54f3fabc
X-WR-TIMEZONE:America/Anchorage
BEGIN:VTIMEZONE
TZID:America/Anchorage
BEGIN:STANDARD
TZNAME:AKST
DTSTART:20211107T020000
TZOFFSETFROM:-0800
TZOFFSETTO:-0900
RDATE:20221106T020000
RDATE:20231105T020000
END:STANDARD
BEGIN:DAYLIGHT
TZNAME:AKDT
DTSTART:20220313T020000
TZOFFSETFROM:-0900
TZOFFSETTO:-0800
RDATE:20230312T020000
END:DAYLIGHT
END:VTIMEZONE
BEGIN:VEVENT
UID:9da9b7a1-4426-4503-84c1-06089460db9a
DTSTAMP:20260420T061321Z
DESCRIPTION:The Ketchikan Running Club is hosting the Blueberry Fun Run. Re
 gistration opens at 8 am\, 1- mile children's run and 5K walkers start at 
 9 am\, and the 5K and 10K runners begin at 9:30 am.
DTSTART;TZID=America/Anchorage:20220806T080000
DTEND;TZID=America/Anchorage:20220806T093000
LOCATION:
SUMMARY:KRC Blueberry Fun-Run Registration Opens
END:VEVENT
END:VCALENDAR
