BEGIN:VCALENDAR
VERSION:2.0
PRODID:-//www.ketchikanarts.org//NONSGML kigkonsult.se iCalcreator 2.30.10/
 /
CALSCALE:GREGORIAN
METHOD:PUBLISH
UID:6d5b802a-be81-4c02-aba5-b91fbcf7e80d
X-WR-CALDESC:Meet us at booth 90 for the 'Blueberry Flyer Wind up + Win' sp
 onsored by Alaska Airlines to get your Blueberry Flyer and compete!
X-WR-RELCALID:24c153022d80f9fadf60038955bae280
X-WR-TIMEZONE:America/Anchorage
BEGIN:VTIMEZONE
TZID:America/Anchorage
BEGIN:STANDARD
TZNAME:AKST
DTSTART:20211107T020000
TZOFFSETFROM:-0800
TZOFFSETTO:-0900
RDATE:20221106T020000
RDATE:20231105T020000
END:STANDARD
BEGIN:DAYLIGHT
TZNAME:AKDT
DTSTART:20220313T020000
TZOFFSETFROM:-0900
TZOFFSETTO:-0800
RDATE:20230312T020000
END:DAYLIGHT
END:VTIMEZONE
BEGIN:VEVENT
UID:466701a0-4eae-476d-94ec-ca196ab31b73
DTSTAMP:20260420T061918Z
DESCRIPTION:Meet us at booth 90 for the 'Blueberry Flyer Wind up + Win' spo
 nsored by Alaska Airlines to get your Blueberry Flyer and compete!
DTSTART;TZID=America/Anchorage:20220806T100000
DTEND;TZID=America/Anchorage:20220806T110000
LOCATION:Booth #90
SUMMARY:Blueberry Flyer Wind Up + Win sponsored by Alaska Airline
END:VEVENT
END:VCALENDAR
