BEGIN:VCALENDAR
VERSION:2.0
PRODID:-//www.ketchikanarts.org//NONSGML kigkonsult.se iCalcreator 2.30.10/
 /
CALSCALE:GREGORIAN
METHOD:PUBLISH
UID:4a49dc99-e41e-48b5-8689-4d8286dbb44e
X-WR-CALDESC:
X-WR-RELCALID:ebed2625d3ccc49f026896da924a4d3f
X-WR-TIMEZONE:America/Anchorage
BEGIN:VTIMEZONE
TZID:America/Anchorage
BEGIN:STANDARD
TZNAME:AKST
DTSTART:20211107T020000
TZOFFSETFROM:-0800
TZOFFSETTO:-0900
RDATE:20221106T020000
RDATE:20231105T020000
END:STANDARD
BEGIN:DAYLIGHT
TZNAME:AKDT
DTSTART:20220313T020000
TZOFFSETFROM:-0900
TZOFFSETTO:-0800
RDATE:20230312T020000
END:DAYLIGHT
END:VTIMEZONE
BEGIN:VEVENT
UID:de84ae35-6080-4aee-be22-030b2d820d9b
DTSTAMP:20260420T062015Z
DESCRIPTION:
DTSTART;TZID=America/Anchorage:20220806T113000
DTEND;TZID=America/Anchorage:20220806T123000
LOCATION:
SUMMARY:Blueberry Festival Pie-Eating Contest
END:VEVENT
END:VCALENDAR
