BEGIN:VCALENDAR
VERSION:2.0
PRODID:-//www.ketchikanarts.org//NONSGML kigkonsult.se iCalcreator 2.30.10/
 /
CALSCALE:GREGORIAN
METHOD:PUBLISH
UID:fb14ecca-a0af-4fb0-bac3-2ab867b8a089
X-WR-CALDESC:The 47th annual Blueberry Arts Festival art\, food\, and infor
 mation booths are open!
X-WR-RELCALID:c6ad58fb95b8c12acc62a4f550ded79c
X-WR-TIMEZONE:America/Anchorage
BEGIN:VTIMEZONE
TZID:America/Anchorage
BEGIN:STANDARD
TZNAME:AKST
DTSTART:20211107T020000
TZOFFSETFROM:-0800
TZOFFSETTO:-0900
RDATE:20221106T020000
RDATE:20231105T020000
END:STANDARD
BEGIN:DAYLIGHT
TZNAME:AKDT
DTSTART:20220313T020000
TZOFFSETFROM:-0900
TZOFFSETTO:-0800
RDATE:20230312T020000
END:DAYLIGHT
END:VTIMEZONE
BEGIN:VEVENT
UID:77fb8988-4a46-49c8-b928-ecfa50658f8a
DTSTAMP:20260420T061858Z
DESCRIPTION:The 47th annual Blueberry Arts Festival art\, food\, and inform
 ation booths are open!
DTSTART;TZID=America/Anchorage:20220806T100000
DTEND;TZID=America/Anchorage:20220806T170000
LOCATION:
SUMMARY:Blueberry Festival Booths Open
END:VEVENT
END:VCALENDAR
