BEGIN:VCALENDAR
VERSION:2.0
PRODID:-//www.ketchikanarts.org//NONSGML kigkonsult.se iCalcreator 2.30.10/
 /
CALSCALE:GREGORIAN
METHOD:PUBLISH
UID:8c828e4a-4539-4a44-a9dc-740062b13cbb
X-WR-CALDESC:Calling ALL to participate\, grow\, design\, and sculpt your f
 acial masterpieces! Thats right !!! Prizes will be given to the MOST WILD!
 !!!\nMOST ARTISTIC!!!! and the PEOPLE's Favorite!!! Check-in at the Main S
 tage to be included in the judgment!
X-WR-RELCALID:f7bd04742590cc896c91bca6f2cbbcbc
X-WR-TIMEZONE:America/Anchorage
BEGIN:VTIMEZONE
TZID:America/Anchorage
BEGIN:STANDARD
TZNAME:AKST
DTSTART:20211107T020000
TZOFFSETFROM:-0800
TZOFFSETTO:-0900
RDATE:20221106T020000
RDATE:20231105T020000
END:STANDARD
BEGIN:DAYLIGHT
TZNAME:AKDT
DTSTART:20220313T020000
TZOFFSETFROM:-0900
TZOFFSETTO:-0800
RDATE:20230312T020000
END:DAYLIGHT
END:VTIMEZONE
BEGIN:VEVENT
UID:1200f79c-74da-4d6e-af07-877b6562184c
DTSTAMP:20260420T060843Z
DESCRIPTION:Calling ALL to participate\, grow\, design\, and sculpt your fa
 cial masterpieces! Thats right !!! Prizes will be given to the MOST WILD!!
 !!\nMOST ARTISTIC!!!! and the PEOPLE's Favorite!!! Check-in at the Main St
 age to be included in the judgment!
DTSTART;TZID=America/Anchorage:20220806T140000
DTEND;TZID=America/Anchorage:20220806T150000
LOCATION:Mainstage
SUMMARY:Beard and Mustache Contest
END:VEVENT
END:VCALENDAR
