BEGIN:VCALENDAR
VERSION:2.0
PRODID:-//www.ketchikanarts.org//NONSGML kigkonsult.se iCalcreator 2.30.10/
 /
CALSCALE:GREGORIAN
METHOD:PUBLISH
UID:09de01aa-1edd-4bc3-bb0c-1b53e1960771
X-WR-CALDESC:Rotating live local music! You won't be disappointed\, \nFree 
 and open to restaurant and Bar patrons
X-WR-RELCALID:2d257c22a468d554de6bb04d9e80329a
X-WR-TIMEZONE:America/Anchorage
BEGIN:VTIMEZONE
TZID:America/Anchorage
BEGIN:STANDARD
TZNAME:AKST
DTSTART:20211107T020000
TZOFFSETFROM:-0800
TZOFFSETTO:-0900
RDATE:20221106T020000
RDATE:20231105T020000
END:STANDARD
BEGIN:DAYLIGHT
TZNAME:AKDT
DTSTART:20220313T020000
TZOFFSETFROM:-0900
TZOFFSETTO:-0800
RDATE:20230312T020000
END:DAYLIGHT
END:VTIMEZONE
BEGIN:VEVENT
UID:f1550eba-3281-4fa7-9316-1010864a5574
DTSTAMP:20260420T061726Z
DESCRIPTION:Rotating live local music! You won't be disappointed\, \nFree a
 nd open to restaurant and Bar patrons
DTSTART;TZID=America/Anchorage:20220806T190000
DTEND;TZID=America/Anchorage:20220806T210000
LOCATION:New York Cafe
SUMMARY:Live Music
END:VEVENT
END:VCALENDAR
