BEGIN:VCALENDAR
VERSION:2.0
PRODID:-//www.ketchikanarts.org//NONSGML kigkonsult.se iCalcreator 2.30.10/
 /
CALSCALE:GREGORIAN
METHOD:PUBLISH
UID:a478c757-dd0a-4d15-8081-48054b67bdfd
X-WR-CALDESC:Great Alaskan Lumberjack Show Fundraiser on August 5th!!! A pe
 rilous competition between the VFW/American Legion and the Ketchikan Volun
 teer Rescue Squad. Watch and cheer them on while they compete with their l
 umberjack teammates to win the Community Show Trophy last seen in 2019! Th
 e competition will start at 7 pm\, admission is a minimum donation of $5\,
  and all proceeds will go to the Special Olympics. Afterward\, there will 
 be a bar and Woody’s Finest Hour playing from 8:30-10 pm! Come join us for
  Competition\, Fun\, and Live Music!”
X-WR-RELCALID:4f12c155c0a685ec436de63d49e44361
X-WR-TIMEZONE:America/Anchorage
BEGIN:VTIMEZONE
TZID:America/Anchorage
BEGIN:STANDARD
TZNAME:AKST
DTSTART:20211107T020000
TZOFFSETFROM:-0800
TZOFFSETTO:-0900
RDATE:20221106T020000
RDATE:20231105T020000
END:STANDARD
BEGIN:DAYLIGHT
TZNAME:AKDT
DTSTART:20220313T020000
TZOFFSETFROM:-0900
TZOFFSETTO:-0800
RDATE:20230312T020000
END:DAYLIGHT
END:VTIMEZONE
BEGIN:VEVENT
UID:13ac3bc0-3599-4754-86cf-89378e138990
DTSTAMP:20260420T061914Z
DESCRIPTION:Great Alaskan Lumberjack Show Fundraiser on August 5th!!! A per
 ilous competition between the VFW/American Legion and the Ketchikan Volunt
 eer Rescue Squad. Watch and cheer them on while they compete with their lu
 mberjack teammates to win the Community Show Trophy last seen in 2019! The
  competition will start at 7 pm\, admission is a minimum donation of $5\, 
 and all proceeds will go to the Special Olympics. Afterward\, there will b
 e a bar and Woody’s Finest Hour playing from 8:30-10 pm! Come join us for 
 Competition\, Fun\, and Live Music!”
DTSTART;TZID=America/Anchorage:20220805T190000
DTEND;TZID=America/Anchorage:20220805T220000
LOCATION:
SUMMARY:Lumberjack Show Fundraiser and Live Music
END:VEVENT
END:VCALENDAR
