BEGIN:VCALENDAR
VERSION:2.0
PRODID:-//www.ketchikanarts.org//NONSGML kigkonsult.se iCalcreator 2.30.10/
 /
CALSCALE:GREGORIAN
METHOD:PUBLISH
UID:c43c32a7-e501-4cc0-b295-5162aadcb8af
X-WR-CALDESC:Practice\, Practice\, Practice those delish blueberry dishes! 
 Bring in your dish by 3:00 pm sharp to get it judged against the rest of K
 etchikan. Prizes for First\, Second\, and Third!\nRules for the Best Blueb
 erry Arts Festival Blueberry Dish…\n\n•	Dishes are due to the arts council 
 – ready to serve before 3 pm on Friday\, August 5th\, Doors are locked at 
 3:00 for Judging!!!\n•	Must provide 4 servings\, of up to two recipes will 
 be accepted.\n•	Your dish may be savory or sweet.\n•	Your dish should make a
  recipe that will allow for 3 sample servings.\n•	The predominant flavor pr
 ofile must be…BLUEBERRIES!!!\n•	The dish must be an original recipe OR your
  own personal adaptation of a recipe. \n•	The winning dish will be featured
  on the specials menu for the month of August at the New York Cafe.\n
X-WR-RELCALID:15fdf3488c483994c119527e39d8d437
X-WR-TIMEZONE:America/Anchorage
BEGIN:VTIMEZONE
TZID:America/Anchorage
BEGIN:STANDARD
TZNAME:AKST
DTSTART:20211107T020000
TZOFFSETFROM:-0800
TZOFFSETTO:-0900
RDATE:20221106T020000
RDATE:20231105T020000
END:STANDARD
BEGIN:DAYLIGHT
TZNAME:AKDT
DTSTART:20220313T020000
TZOFFSETFROM:-0900
TZOFFSETTO:-0800
RDATE:20230312T020000
END:DAYLIGHT
END:VTIMEZONE
BEGIN:VEVENT
UID:a4cf14cc-4c32-4f58-9f44-b0d6058f439b
DTSTAMP:20260420T061714Z
DESCRIPTION:Practice\, Practice\, Practice those delish blueberry dishes! B
 ring in your dish by 3:00 pm sharp to get it judged against the rest of Ke
 tchikan. Prizes for First\, Second\, and Third!\nRules for the Best Bluebe
 rry Arts Festival Blueberry Dish…\n\n•	Dishes are due to the arts council –
  ready to serve before 3 pm on Friday\, August 5th\, Doors are locked at 3
 :00 for Judging!!!\n•	Must provide 4 servings\, of up to two recipes will b
 e accepted.\n•	Your dish may be savory or sweet.\n•	Your dish should make a 
 recipe that will allow for 3 sample servings.\n•	The predominant flavor pro
 file must be…BLUEBERRIES!!!\n•	The dish must be an original recipe OR your 
 own personal adaptation of a recipe. \n•	The winning dish will be featured 
 on the specials menu for the month of August at the New York Cafe.\n
DTSTART;TZID=America/Anchorage:20220805T150000
DTEND;TZID=America/Anchorage:20220805T160000
LOCATION:Main Street Gallery
SUMMARY:Best Blueberry Dish Contest
END:VEVENT
END:VCALENDAR
