BEGIN:VCALENDAR
VERSION:2.0
PRODID:-//www.ketchikanarts.org//NONSGML kigkonsult.se iCalcreator 2.30.10/
 /
CALSCALE:GREGORIAN
METHOD:PUBLISH
UID:70af15e5-d659-420f-bb6d-9cadec1fa12a
X-WR-CALDESC:
X-WR-RELCALID:3684f4859cca5e9482c71dd63aceb00d
X-WR-TIMEZONE:America/Anchorage
BEGIN:VTIMEZONE
TZID:America/Anchorage
BEGIN:STANDARD
TZNAME:AKST
DTSTART:20211107T020000
TZOFFSETFROM:-0800
TZOFFSETTO:-0900
RDATE:20221106T020000
RDATE:20231105T020000
END:STANDARD
BEGIN:DAYLIGHT
TZNAME:AKDT
DTSTART:20220313T020000
TZOFFSETFROM:-0900
TZOFFSETTO:-0800
RDATE:20230312T020000
END:DAYLIGHT
END:VTIMEZONE
BEGIN:VEVENT
UID:a3a76a2b-b6c2-4fb0-b292-bd65f2f6194c
DTSTAMP:20260420T062053Z
DESCRIPTION:
DTSTART;TZID=America/Anchorage:20220804T080000
DTEND;TZID=America/Anchorage:20220804T170000
LOCATION:Ketchikan Historical Museum
SUMMARY:The Tongass Historical Museum
END:VEVENT
END:VCALENDAR
