BEGIN:VCALENDAR
VERSION:2.0
PRODID:-//www.ketchikanarts.org//NONSGML kigkonsult.se iCalcreator 2.30.10/
 /
CALSCALE:GREGORIAN
METHOD:PUBLISH
UID:57431a16-f99d-462e-97b1-4950fe1aebf8
X-WR-CALDESC:Join Tallie Medel for a fun\, physical theater\, improv adult 
 workshop at First City Players Office. Seats are capped at 16 folks! This 
 is a 2-night workshop is $95\, or if you can't make it both nights\, it's 
 $50 for the night.  You can reserve your spot now at firstcityplayers.org/
 tickets and if you book both nights\, use the discount code TWODAYS to get
  the $95 pricing!
X-WR-RELCALID:8cb956d93cf292b8bde87bbc490dd8a5
X-WR-TIMEZONE:America/Anchorage
BEGIN:VTIMEZONE
TZID:America/Anchorage
BEGIN:STANDARD
TZNAME:AKST
DTSTART:20211107T020000
TZOFFSETFROM:-0800
TZOFFSETTO:-0900
RDATE:20221106T020000
RDATE:20231105T020000
END:STANDARD
BEGIN:DAYLIGHT
TZNAME:AKDT
DTSTART:20220313T020000
TZOFFSETFROM:-0900
TZOFFSETTO:-0800
RDATE:20230312T020000
END:DAYLIGHT
END:VTIMEZONE
BEGIN:VEVENT
UID:75b467a9-d820-49bd-be5f-da2db208581c
DTSTAMP:20260420T061715Z
DESCRIPTION:Join Tallie Medel for a fun\, physical theater\, improv adult w
 orkshop at First City Players Office. Seats are capped at 16 folks! This i
 s a 2-night workshop is $95\, or if you can't make it both nights\, it's $
 50 for the night.  You can reserve your spot now at firstcityplayers.org/t
 ickets and if you book both nights\, use the discount code TWODAYS to get 
 the $95 pricing!
DTSTART;TZID=America/Anchorage:20220803T183000
DTEND;TZID=America/Anchorage:20220803T203000
LOCATION:335 Main St\, Ketchikan\, AK 99901 US
SUMMARY:Clown Class with Tallie Medel
END:VEVENT
END:VCALENDAR
