BEGIN:VCALENDAR
VERSION:2.0
PRODID:-//www.ketchikanarts.org//NONSGML kigkonsult.se iCalcreator 2.30.10/
 /
CALSCALE:GREGORIAN
METHOD:PUBLISH
UID:d0bb3689-d0eb-4d42-b4a0-5619684707c5
X-WR-CALDESC:Join Captain Steven J. Craig  2020 silver medal winner from mi
 litary writers society of America in the history category and author of ' 
 All Present and Accounted For' at the Ketchikan Public Library. Books will
  be available for purchase courtesy of Parnassus Books.
X-WR-RELCALID:e9156386389fbe7dfd2c627dfb2d0a87
X-WR-TIMEZONE:America/Anchorage
BEGIN:VTIMEZONE
TZID:America/Anchorage
BEGIN:STANDARD
TZNAME:AKST
DTSTART:20211107T020000
TZOFFSETFROM:-0800
TZOFFSETTO:-0900
RDATE:20221106T020000
RDATE:20231105T020000
END:STANDARD
BEGIN:DAYLIGHT
TZNAME:AKDT
DTSTART:20220313T020000
TZOFFSETFROM:-0900
TZOFFSETTO:-0800
RDATE:20230312T020000
END:DAYLIGHT
END:VTIMEZONE
BEGIN:VEVENT
UID:512977dc-da76-46a7-b907-ea7a6441e3e3
DTSTAMP:20260420T062012Z
DESCRIPTION:Join Captain Steven J. Craig  2020 silver medal winner from mil
 itary writers society of America in the history category and author of ' A
 ll Present and Accounted For' at the Ketchikan Public Library. Books will 
 be available for purchase courtesy of Parnassus Books.
DTSTART;TZID=America/Anchorage:20220803T130000
DTEND;TZID=America/Anchorage:20220803T140000
LOCATION:Ketchikan Public Library
SUMMARY:Captain Steven J. Craig at the Ketchikan Public Library
END:VEVENT
END:VCALENDAR
