BEGIN:VCALENDAR
VERSION:2.0
PRODID:-//www.ketchikanarts.org//NONSGML kigkonsult.se iCalcreator 2.30.10/
 /
CALSCALE:GREGORIAN
METHOD:PUBLISH
UID:1deeafa2-ac6b-477c-a8e4-f070958e78b4
X-WR-CALDESC:Austin will perform Wednesday Nights through the summer \nFree
  to patrons of the Timbers Resturant
X-WR-RELCALID:83d8337ed72dece81142661c20afae82
X-WR-TIMEZONE:America/Anchorage
BEGIN:VTIMEZONE
TZID:America/Anchorage
BEGIN:STANDARD
TZNAME:AKST
DTSTART:20211107T020000
TZOFFSETFROM:-0800
TZOFFSETTO:-0900
RDATE:20221106T020000
RDATE:20231105T020000
END:STANDARD
BEGIN:DAYLIGHT
TZNAME:AKDT
DTSTART:20220313T020000
TZOFFSETFROM:-0900
TZOFFSETTO:-0800
RDATE:20230312T020000
END:DAYLIGHT
END:VTIMEZONE
BEGIN:VEVENT
UID:36c4f5d5-83d5-4464-8f22-9aa4943cce49
DTSTAMP:20260420T061726Z
DESCRIPTION:Austin will perform Wednesday Nights through the summer \nFree 
 to patrons of the Timbers Resturant
DTSTART;TZID=America/Anchorage:20220803T180000
DTEND;TZID=America/Anchorage:20220803T200000
LOCATION:Timbers Restaurant Salmon Falls Resort
SUMMARY:Austin Hays Solo
END:VEVENT
END:VCALENDAR
