BEGIN:VCALENDAR
VERSION:2.0
PRODID:-//www.ketchikanarts.org//NONSGML kigkonsult.se iCalcreator 2.30.10/
 /
CALSCALE:GREGORIAN
METHOD:PUBLISH
UID:c499bd19-48eb-4c06-8eb5-34c21cb9563d
X-WR-CALDESC:Join Tallie Medel for a fun\, physical theater\, improv adult 
 workshop at First City Players Office. Seats are capped at 16 folks! This 
 is a 2-night workshop is $95\, or if you can't make it both nights\, it's 
 $50 for the night.  You can reserve your spot now at firstcityplayers.org/
 tickets and if you book both nights\, use the discount code TWODAYS to get
  the $95 pricing!
X-WR-RELCALID:dc52ddd6c581be1fe7ed1e870426d5b0
X-WR-TIMEZONE:America/Anchorage
BEGIN:VTIMEZONE
TZID:America/Anchorage
BEGIN:STANDARD
TZNAME:AKST
DTSTART:20211107T020000
TZOFFSETFROM:-0800
TZOFFSETTO:-0900
RDATE:20221106T020000
RDATE:20231105T020000
END:STANDARD
BEGIN:DAYLIGHT
TZNAME:AKDT
DTSTART:20220313T020000
TZOFFSETFROM:-0900
TZOFFSETTO:-0800
RDATE:20230312T020000
END:DAYLIGHT
END:VTIMEZONE
BEGIN:VEVENT
UID:d985eafc-b8d8-4b89-92fc-ab3274af92f6
DTSTAMP:20260420T061620Z
DESCRIPTION:Join Tallie Medel for a fun\, physical theater\, improv adult w
 orkshop at First City Players Office. Seats are capped at 16 folks! This i
 s a 2-night workshop is $95\, or if you can't make it both nights\, it's $
 50 for the night.  You can reserve your spot now at firstcityplayers.org/t
 ickets and if you book both nights\, use the discount code TWODAYS to get 
 the $95 pricing!
DTSTART;TZID=America/Anchorage:20220802T183000
DTEND;TZID=America/Anchorage:20220802T203000
LOCATION:335 Main St\, Ketchikan\, AK 99901 US
SUMMARY:Clown Class with Tallie Medel
END:VEVENT
END:VCALENDAR
