BEGIN:VCALENDAR
VERSION:2.0
PRODID:-//www.ketchikanarts.org//NONSGML kigkonsult.se iCalcreator 2.30.10/
 /
CALSCALE:GREGORIAN
METHOD:PUBLISH
UID:0c148b26-e0c7-4f6e-973e-95067ae1685a
X-WR-CALDESC:An easygoing place to learn and practice east coast swing danc
 e.4 week series includes\nSwing 101 + Three weeks of Swing 3\n$30\nDoors o
 pen 5:45pm for check-in and warm-up practice.\n6:00 - 7:00 pm  Class\nfoll
 owed by open dancing practica or a beverage until 7:30
X-WR-RELCALID:49d716886fdcc26a0e15f520634e5c62
X-WR-TIMEZONE:America/Anchorage
BEGIN:VTIMEZONE
TZID:America/Anchorage
BEGIN:STANDARD
TZNAME:AKST
DTSTART:20211107T020000
TZOFFSETFROM:-0800
TZOFFSETTO:-0900
RDATE:20221106T020000
RDATE:20231105T020000
END:STANDARD
BEGIN:DAYLIGHT
TZNAME:AKDT
DTSTART:20220313T020000
TZOFFSETFROM:-0900
TZOFFSETTO:-0800
RDATE:20230312T020000
END:DAYLIGHT
END:VTIMEZONE
BEGIN:VEVENT
UID:5d498b24-758e-4b65-949a-18f9da76003b
DTSTAMP:20260420T061356Z
DESCRIPTION:An easygoing place to learn and practice east coast swing dance
 .4 week series includes\nSwing 101 + Three weeks of Swing 3\n$30\nDoors op
 en 5:45pm for check-in and warm-up practice.\n6:00 - 7:00 pm  Class\nfollo
 wed by open dancing practica or a beverage until 7:30
DTSTART;TZID=America/Anchorage:20220801T173000
DTEND;TZID=America/Anchorage:20220801T193000
LOCATION:Creek Street Cabaret
SUMMARY:BOOMbal Dance Hall- Swing Classes
END:VEVENT
END:VCALENDAR
