BEGIN:VCALENDAR
VERSION:2.0
PRODID:-//www.ketchikanarts.org//NONSGML kigkonsult.se iCalcreator 2.30.10/
 /
CALSCALE:GREGORIAN
METHOD:PUBLISH
UID:a113cc5c-ab55-4a6f-8331-12cdf15212b1
X-WR-CALDESC:Junior Artscool at First city players will be performing 'Aris
 tocrats Kids.'
X-WR-RELCALID:379a77f9f38beea973827669c46c8929
X-WR-TIMEZONE:America/Anchorage
BEGIN:VTIMEZONE
TZID:America/Anchorage
BEGIN:STANDARD
TZNAME:AKST
DTSTART:20211107T020000
TZOFFSETFROM:-0800
TZOFFSETTO:-0900
RDATE:20221106T020000
RDATE:20231105T020000
END:STANDARD
BEGIN:DAYLIGHT
TZNAME:AKDT
DTSTART:20220313T020000
TZOFFSETFROM:-0900
TZOFFSETTO:-0800
RDATE:20230312T020000
END:DAYLIGHT
END:VTIMEZONE
BEGIN:VEVENT
UID:cc8bbd41-7ed7-43f9-976c-760205258e3d
DTSTAMP:20260420T075358Z
DESCRIPTION:Junior Artscool at First city players will be performing 'Arist
 ocrats Kids.'
DTSTART;TZID=America/Anchorage:20220729T193000
DTEND;TZID=America/Anchorage:20220729T203000
LOCATION:First City Players
SUMMARY:First City Players 'Aristocats Kids'
END:VEVENT
END:VCALENDAR
