BEGIN:VCALENDAR
VERSION:2.0
PRODID:-//www.ketchikanarts.org//NONSGML kigkonsult.se iCalcreator 2.30.10/
 /
CALSCALE:GREGORIAN
METHOD:PUBLISH
UID:88e3bc1b-7d98-41e1-b190-51da454dd5fa
X-WR-CALDESC:Live Music \nFree to Restaurant and Bar Patrons\n7:00 - 9:00 p
 m
X-WR-RELCALID:43932f2304edb846043c3058939b92aa
X-WR-TIMEZONE:America/Anchorage
BEGIN:VTIMEZONE
TZID:America/Anchorage
BEGIN:STANDARD
TZNAME:AKST
DTSTART:20211107T020000
TZOFFSETFROM:-0800
TZOFFSETTO:-0900
RDATE:20221106T020000
RDATE:20231105T020000
END:STANDARD
BEGIN:DAYLIGHT
TZNAME:AKDT
DTSTART:20220313T020000
TZOFFSETFROM:-0900
TZOFFSETTO:-0800
RDATE:20230312T020000
END:DAYLIGHT
END:VTIMEZONE
BEGIN:VEVENT
UID:e7ef358a-4ea3-468f-a583-245d06871524
DTSTAMP:20260420T075649Z
DESCRIPTION:Live Music \nFree to Restaurant and Bar Patrons\n7:00 - 9:00 pm
DTSTART;TZID=America/Anchorage:20220729T190000
DTEND;TZID=America/Anchorage:20220729T210000
LOCATION:New York Cafe
SUMMARY:Joe Williams IV and Chazz Gist
END:VEVENT
END:VCALENDAR
