BEGIN:VCALENDAR
VERSION:2.0
PRODID:-//www.ketchikanarts.org//NONSGML kigkonsult.se iCalcreator 2.30.10/
 /
CALSCALE:GREGORIAN
METHOD:PUBLISH
UID:ca692072-a211-49c5-b5d7-ce295d346d57
X-WR-CALDESC:Dave\, Hannah\, Chazz\, & Del
X-WR-RELCALID:ffb2b6f2eddd5fb01144c5ff2fccbc2b
X-WR-TIMEZONE:America/Anchorage
BEGIN:VTIMEZONE
TZID:America/Anchorage
BEGIN:STANDARD
TZNAME:AKST
DTSTART:20211107T020000
TZOFFSETFROM:-0800
TZOFFSETTO:-0900
RDATE:20221106T020000
RDATE:20231105T020000
END:STANDARD
BEGIN:DAYLIGHT
TZNAME:AKDT
DTSTART:20220313T020000
TZOFFSETFROM:-0900
TZOFFSETTO:-0800
RDATE:20230312T020000
END:DAYLIGHT
END:VTIMEZONE
BEGIN:VEVENT
UID:4988ad17-4243-448c-bb08-3b20c532955e
DTSTAMP:20260420T075155Z
DESCRIPTION:Dave\, Hannah\, Chazz\, & Del
DTSTART;TZID=America/Anchorage:20220728T120000
DTEND;TZID=America/Anchorage:20220728T130000
LOCATION:
SUMMARY:Music on the Dock
END:VEVENT
END:VCALENDAR
