BEGIN:VCALENDAR
VERSION:2.0
PRODID:-//www.ketchikanarts.org//NONSGML kigkonsult.se iCalcreator 2.30.10/
 /
CALSCALE:GREGORIAN
METHOD:PUBLISH
UID:204addc9-7141-498c-b0c7-d0624254a416
X-WR-CALDESC:Sultry sounds of Joe Williams IV and Austin Hays\nLive music a
 t Cape Fox every other Thursday through the end of May \nFree to restauran
 t patrons
X-WR-RELCALID:a3ba29a0ca0c489e20998c2fb7f29097
X-WR-TIMEZONE:America/Anchorage
BEGIN:VTIMEZONE
TZID:America/Anchorage
BEGIN:STANDARD
TZNAME:AKST
DTSTART:20211107T020000
TZOFFSETFROM:-0800
TZOFFSETTO:-0900
RDATE:20221106T020000
RDATE:20231105T020000
END:STANDARD
BEGIN:DAYLIGHT
TZNAME:AKDT
DTSTART:20220313T020000
TZOFFSETFROM:-0900
TZOFFSETTO:-0800
RDATE:20230312T020000
END:DAYLIGHT
END:VTIMEZONE
BEGIN:VEVENT
UID:a397cad3-bb81-45a8-842c-3de98b0d2a83
DTSTAMP:20260420T075517Z
DESCRIPTION:Sultry sounds of Joe Williams IV and Austin Hays\nLive music at
  Cape Fox every other Thursday through the end of May \nFree to restaurant
  patrons
DTSTART;TZID=America/Anchorage:20220728T170000
DTEND;TZID=America/Anchorage:20220728T203000
LOCATION:
SUMMARY:Joe Williams IV and Austin Hays
END:VEVENT
END:VCALENDAR
