BEGIN:VCALENDAR
VERSION:2.0
PRODID:-//www.ketchikanarts.org//NONSGML kigkonsult.se iCalcreator 2.30.10/
 /
CALSCALE:GREGORIAN
METHOD:PUBLISH
UID:3e4c9d8d-3a9e-4baa-95ea-3b4d144b7fe1
X-WR-CALDESC:
X-WR-RELCALID:b472fd181c8ffcd0546c5a5886e23f8d
X-WR-TIMEZONE:America/Anchorage
BEGIN:VTIMEZONE
TZID:America/Anchorage
BEGIN:STANDARD
TZNAME:AKST
DTSTART:20211107T020000
TZOFFSETFROM:-0800
TZOFFSETTO:-0900
RDATE:20221106T020000
RDATE:20231105T020000
END:STANDARD
BEGIN:DAYLIGHT
TZNAME:AKDT
DTSTART:20220313T020000
TZOFFSETFROM:-0900
TZOFFSETTO:-0800
RDATE:20230312T020000
END:DAYLIGHT
END:VTIMEZONE
BEGIN:VEVENT
UID:bbce4520-d8e1-43c9-a996-f63066b4e148
DTSTAMP:20260420T075711Z
DESCRIPTION:
DTSTART;TZID=America/Anchorage:20220728T080000
DTEND;TZID=America/Anchorage:20220728T170000
LOCATION:Ketchikan Historical Museum
SUMMARY:The Tongass Historical Museum
END:VEVENT
END:VCALENDAR
