BEGIN:VCALENDAR
VERSION:2.0
PRODID:-//www.ketchikanarts.org//NONSGML kigkonsult.se iCalcreator 2.30.10/
 /
CALSCALE:GREGORIAN
METHOD:PUBLISH
UID:f2727eb1-08f4-46aa-b4ab-ad4e7003aa92
X-WR-CALDESC:Lallette Kistler and the Ketchikan Community Chorus Summer Sin
 gers
X-WR-RELCALID:d6a8bc4b5c33d294fc7c40dc937d227f
X-WR-TIMEZONE:America/Anchorage
BEGIN:VTIMEZONE
TZID:America/Anchorage
BEGIN:STANDARD
TZNAME:AKST
DTSTART:20211107T020000
TZOFFSETFROM:-0800
TZOFFSETTO:-0900
RDATE:20221106T020000
RDATE:20231105T020000
END:STANDARD
BEGIN:DAYLIGHT
TZNAME:AKDT
DTSTART:20220313T020000
TZOFFSETFROM:-0900
TZOFFSETTO:-0800
RDATE:20230312T020000
END:DAYLIGHT
END:VTIMEZONE
BEGIN:VEVENT
UID:558c758d-279c-4be2-b919-0fc46d2a210e
DTSTAMP:20260420T075128Z
DESCRIPTION:Lallette Kistler and the Ketchikan Community Chorus Summer Sing
 ers
DTSTART;TZID=America/Anchorage:20220726T120000
DTEND;TZID=America/Anchorage:20220726T130000
LOCATION:
SUMMARY:Music on the Dock
END:VEVENT
END:VCALENDAR
