BEGIN:VCALENDAR
VERSION:2.0
PRODID:-//www.ketchikanarts.org//NONSGML kigkonsult.se iCalcreator 2.30.10/
 /
CALSCALE:GREGORIAN
METHOD:PUBLISH
UID:d1cd8dfc-3c57-480b-8232-2b3a84ec306e
X-WR-CALDESC:Sarah Short and Samantha Wodehouse
X-WR-RELCALID:daf3d5ccbc7daf17a3f96d7628cb97fe
X-WR-TIMEZONE:America/Anchorage
BEGIN:VTIMEZONE
TZID:America/Anchorage
BEGIN:STANDARD
TZNAME:AKST
DTSTART:20211107T020000
TZOFFSETFROM:-0800
TZOFFSETTO:-0900
RDATE:20221106T020000
RDATE:20231105T020000
END:STANDARD
BEGIN:DAYLIGHT
TZNAME:AKDT
DTSTART:20220313T020000
TZOFFSETFROM:-0900
TZOFFSETTO:-0800
RDATE:20230312T020000
END:DAYLIGHT
END:VTIMEZONE
BEGIN:VEVENT
UID:3aadad7d-62fd-4a02-b7e8-4b02037e2460
DTSTAMP:20260420T075121Z
DESCRIPTION:Sarah Short and Samantha Wodehouse
DTSTART;TZID=America/Anchorage:20220725T120000
DTEND;TZID=America/Anchorage:20220725T130000
LOCATION:
SUMMARY:Music on the Dock
END:VEVENT
END:VCALENDAR
