BEGIN:VCALENDAR
VERSION:2.0
PRODID:-//www.ketchikanarts.org//NONSGML kigkonsult.se iCalcreator 2.30.10/
 /
CALSCALE:GREGORIAN
METHOD:PUBLISH
UID:adb764ea-a882-4ec8-9fb4-be03222c73d8
X-WR-CALDESC:Gateway Games is hosting a series of painting sessions\, focus
 ed on painting one miniature character each session. They will assign char
 acteristics and skills to the character based on characteristics of the it
 em. \nPainting skills will be some color work with base coating\, inking\,
  and dry brushing. \nAcademic Skills will include: Creative and Imaginativ
 e Thinking\, Imagining and developing artistic ideas and work as well as I
 nterpret and share artistic work.\nSEL skills will include Responsible Dec
 ision Making\, Social Awareness\, and Relationship Skills. Age level of th
 e class is 5-12\, adults are requested to stay with children during the cl
 ass.\nAt the end of the four sessions\, there will be a tournament where t
 hey put our miniatures through a series of contests and activities. \nEach
  session will cost 10$\, If a student is unable to make all 4 prep session
 s\, they will be able to participate in some aspects of the tournament
X-WR-RELCALID:c82c8a7cd186b025577557293b4d8ce1
X-WR-TIMEZONE:America/Anchorage
BEGIN:VTIMEZONE
TZID:America/Anchorage
BEGIN:STANDARD
TZNAME:AKST
DTSTART:20211107T020000
TZOFFSETFROM:-0800
TZOFFSETTO:-0900
RDATE:20221106T020000
RDATE:20231105T020000
END:STANDARD
BEGIN:DAYLIGHT
TZNAME:AKDT
DTSTART:20220313T020000
TZOFFSETFROM:-0900
TZOFFSETTO:-0800
RDATE:20230312T020000
END:DAYLIGHT
END:VTIMEZONE
BEGIN:VEVENT
UID:d4d9254c-0f40-4ddb-b7f2-223e606c4aa6
DTSTAMP:20260420T075155Z
DESCRIPTION:Gateway Games is hosting a series of painting sessions\, focuse
 d on painting one miniature character each session. They will assign chara
 cteristics and skills to the character based on characteristics of the ite
 m. \nPainting skills will be some color work with base coating\, inking\, 
 and dry brushing. \nAcademic Skills will include: Creative and Imaginative
  Thinking\, Imagining and developing artistic ideas and work as well as In
 terpret and share artistic work.\nSEL skills will include Responsible Deci
 sion Making\, Social Awareness\, and Relationship Skills. Age level of the
  class is 5-12\, adults are requested to stay with children during the cla
 ss.\nAt the end of the four sessions\, there will be a tournament where th
 ey put our miniatures through a series of contests and activities. \nEach 
 session will cost 10$\, If a student is unable to make all 4 prep sessions
 \, they will be able to participate in some aspects of the tournament
DTSTART;TZID=America/Anchorage:20220724T140000
DTEND;TZID=America/Anchorage:20220724T150000
LOCATION:352 Front St\, Ketchikan\, AK 99901 US
SUMMARY:Miniature Painting Lessons
END:VEVENT
END:VCALENDAR
