BEGIN:VCALENDAR
VERSION:2.0
PRODID:-//www.ketchikanarts.org//NONSGML kigkonsult.se iCalcreator 2.30.10/
 /
CALSCALE:GREGORIAN
METHOD:PUBLISH
UID:2c5138dc-988e-4c39-87d5-6ca573353117
X-WR-CALDESC:Live music at Salmon Falls featuring Isaak Linkous
X-WR-RELCALID:3c5b4f90eb8b4b73eaafab73692f09c7
X-WR-TIMEZONE:America/Anchorage
BEGIN:VTIMEZONE
TZID:America/Anchorage
BEGIN:STANDARD
TZNAME:AKST
DTSTART:20211107T020000
TZOFFSETFROM:-0800
TZOFFSETTO:-0900
RDATE:20221106T020000
RDATE:20231105T020000
END:STANDARD
BEGIN:DAYLIGHT
TZNAME:AKDT
DTSTART:20220313T020000
TZOFFSETFROM:-0900
TZOFFSETTO:-0800
RDATE:20230312T020000
END:DAYLIGHT
END:VTIMEZONE
BEGIN:VEVENT
UID:f79e1a5a-8167-4d1c-a8b6-2c9293ae9809
DTSTAMP:20260420T075207Z
DESCRIPTION:Live music at Salmon Falls featuring Isaak Linkous
DTSTART;TZID=America/Anchorage:20220724T190000
DTEND;TZID=America/Anchorage:20220724T210000
LOCATION:Salmon Falls
SUMMARY:Isaak Linkous Live Music
END:VEVENT
END:VCALENDAR
