BEGIN:VCALENDAR
VERSION:2.0
PRODID:-//www.ketchikanarts.org//NONSGML kigkonsult.se iCalcreator 2.30.10/
 /
CALSCALE:GREGORIAN
METHOD:PUBLISH
UID:b1fce386-39c8-4b5d-adf4-4e1fad41efed
X-WR-CALDESC:Rotating live local music! You won't be disappointed\, \nFree 
 and open to restaurant and Bar patrons
X-WR-RELCALID:9f0fcc95238f79bf8cbd9588bc0a43d5
X-WR-TIMEZONE:America/Anchorage
BEGIN:VTIMEZONE
TZID:America/Anchorage
BEGIN:STANDARD
TZNAME:AKST
DTSTART:20211107T020000
TZOFFSETFROM:-0800
TZOFFSETTO:-0900
RDATE:20221106T020000
RDATE:20231105T020000
END:STANDARD
BEGIN:DAYLIGHT
TZNAME:AKDT
DTSTART:20220313T020000
TZOFFSETFROM:-0900
TZOFFSETTO:-0800
RDATE:20230312T020000
END:DAYLIGHT
END:VTIMEZONE
BEGIN:VEVENT
UID:8112d3c4-e4d9-42f2-b343-412592d2ff0e
DTSTAMP:20260420T075253Z
DESCRIPTION:Rotating live local music! You won't be disappointed\, \nFree a
 nd open to restaurant and Bar patrons
DTSTART;TZID=America/Anchorage:20220723T190000
DTEND;TZID=America/Anchorage:20220723T210000
LOCATION:New York Cafe
SUMMARY:Live Music
END:VEVENT
END:VCALENDAR
