BEGIN:VCALENDAR
VERSION:2.0
PRODID:-//www.ketchikanarts.org//NONSGML kigkonsult.se iCalcreator 2.30.10/
 /
CALSCALE:GREGORIAN
METHOD:PUBLISH
UID:21e7eeb7-88ba-4513-af32-fd8c907407a2
X-WR-CALDESC:Paddy's Leather Breeches
X-WR-RELCALID:edba2ef3fad8c455cac319bec7e40fde
X-WR-TIMEZONE:America/Anchorage
BEGIN:VTIMEZONE
TZID:America/Anchorage
BEGIN:STANDARD
TZNAME:AKST
DTSTART:20211107T020000
TZOFFSETFROM:-0800
TZOFFSETTO:-0900
RDATE:20221106T020000
RDATE:20231105T020000
END:STANDARD
BEGIN:DAYLIGHT
TZNAME:AKDT
DTSTART:20220313T020000
TZOFFSETFROM:-0900
TZOFFSETTO:-0800
RDATE:20230312T020000
END:DAYLIGHT
END:VTIMEZONE
BEGIN:VEVENT
UID:531f4d46-5dd6-4034-a30c-efd7bff1daed
DTSTAMP:20260420T075029Z
DESCRIPTION:Paddy's Leather Breeches
DTSTART;TZID=America/Anchorage:20220722T120000
DTEND;TZID=America/Anchorage:20220722T130000
LOCATION:
SUMMARY:Music on the Dock
END:VEVENT
END:VCALENDAR
