BEGIN:VCALENDAR
VERSION:2.0
PRODID:-//www.ketchikanarts.org//NONSGML kigkonsult.se iCalcreator 2.30.10/
 /
CALSCALE:GREGORIAN
METHOD:PUBLISH
UID:18139eae-60b0-4eeb-ba23-d0e9b3d34674
X-WR-CALDESC:Live Music \nFree to Restaurant and Bar Patrons\n7:00 - 9:00 p
 m
X-WR-RELCALID:31e3a59bb3b020eb92ccf6f20d06e3a0
X-WR-TIMEZONE:America/Anchorage
BEGIN:VTIMEZONE
TZID:America/Anchorage
BEGIN:STANDARD
TZNAME:AKST
DTSTART:20211107T020000
TZOFFSETFROM:-0800
TZOFFSETTO:-0900
RDATE:20221106T020000
RDATE:20231105T020000
END:STANDARD
BEGIN:DAYLIGHT
TZNAME:AKDT
DTSTART:20220313T020000
TZOFFSETFROM:-0900
TZOFFSETTO:-0800
RDATE:20230312T020000
END:DAYLIGHT
END:VTIMEZONE
BEGIN:VEVENT
UID:3850c15a-e1ff-4741-b055-5c520fbc677d
DTSTAMP:20260420T075515Z
DESCRIPTION:Live Music \nFree to Restaurant and Bar Patrons\n7:00 - 9:00 pm
DTSTART;TZID=America/Anchorage:20220722T190000
DTEND;TZID=America/Anchorage:20220722T210000
LOCATION:New York Cafe
SUMMARY:Joe Williams IV and Chazz Gist
END:VEVENT
END:VCALENDAR
