BEGIN:VCALENDAR
VERSION:2.0
PRODID:-//www.ketchikanarts.org//NONSGML kigkonsult.se iCalcreator 2.30.10/
 /
CALSCALE:GREGORIAN
METHOD:PUBLISH
UID:c30747ba-143e-458d-965c-af2f4747f945
X-WR-CALDESC:
X-WR-RELCALID:47e7d9b0b870b8d2dd6426bfc1834021
X-WR-TIMEZONE:America/Anchorage
BEGIN:VTIMEZONE
TZID:America/Anchorage
BEGIN:STANDARD
TZNAME:AKST
DTSTART:20211107T020000
TZOFFSETFROM:-0800
TZOFFSETTO:-0900
RDATE:20221106T020000
RDATE:20231105T020000
END:STANDARD
BEGIN:DAYLIGHT
TZNAME:AKDT
DTSTART:20220313T020000
TZOFFSETFROM:-0900
TZOFFSETTO:-0800
RDATE:20230312T020000
END:DAYLIGHT
END:VTIMEZONE
BEGIN:VEVENT
UID:5ff76ea9-8a75-4b80-a26e-c72f656d6752
DTSTAMP:20260420T075533Z
DESCRIPTION:
DTSTART;TZID=America/Anchorage:20220720T080000
DTEND;TZID=America/Anchorage:20220720T170000
LOCATION:Ketchikan Historical Museum
SUMMARY:The Tongass Historical Museum
END:VEVENT
END:VCALENDAR
