BEGIN:VCALENDAR
VERSION:2.0
PRODID:-//www.ketchikanarts.org//NONSGML kigkonsult.se iCalcreator 2.30.10/
 /
CALSCALE:GREGORIAN
METHOD:PUBLISH
UID:bd095b82-9488-4041-b951-ab2a57d96112
X-WR-CALDESC:Paddy's Leather Breeches
X-WR-RELCALID:a74a94a5390966169505109a22f1f5fb
X-WR-TIMEZONE:America/Anchorage
BEGIN:VTIMEZONE
TZID:America/Anchorage
BEGIN:STANDARD
TZNAME:AKST
DTSTART:20211107T020000
TZOFFSETFROM:-0800
TZOFFSETTO:-0900
RDATE:20221106T020000
RDATE:20231105T020000
END:STANDARD
BEGIN:DAYLIGHT
TZNAME:AKDT
DTSTART:20220313T020000
TZOFFSETFROM:-0900
TZOFFSETTO:-0800
RDATE:20230312T020000
END:DAYLIGHT
END:VTIMEZONE
BEGIN:VEVENT
UID:47844aca-6b88-4d69-a48e-6cd3ca96f095
DTSTAMP:20260420T075127Z
DESCRIPTION:Paddy's Leather Breeches
DTSTART;TZID=America/Anchorage:20220719T120000
DTEND;TZID=America/Anchorage:20220719T130000
LOCATION:
SUMMARY:Music on the Dock
END:VEVENT
END:VCALENDAR
